BEGIN:VCALENDAR
VERSION:2.0
PRODID:-//District 44 Toastmasters – Where Leaders Are Made - ECPv6.5.0//NONSGML v1.0//EN
CALSCALE:GREGORIAN
METHOD:PUBLISH
X-WR-CALNAME:District 44 Toastmasters – Where Leaders Are Made
X-ORIGINAL-URL:https://www.d44toastmasters.org
X-WR-CALDESC:Events for District 44 Toastmasters – Where Leaders Are Made
REFRESH-INTERVAL;VALUE=DURATION:PT1H
X-Robots-Tag:noindex
X-PUBLISHED-TTL:PT1H
BEGIN:VTIMEZONE
TZID:UTC
BEGIN:STANDARD
TZOFFSETFROM:+0000
TZOFFSETTO:+0000
TZNAME:UTC
DTSTART:20230101T000000
END:STANDARD
END:VTIMEZONE
BEGIN:VEVENT
DTSTART;TZID=UTC:20230216T190000
DTEND;TZID=UTC:20230216T210000
DTSTAMP:20260424T100609
CREATED:20230119T214111Z
LAST-MODIFIED:20230208T004022Z
UID:2009-1676574000-1676581200@www.d44toastmasters.org
SUMMARY:Winter Club Officer Make Up Training
DESCRIPTION:Winter Club Officer Make Up Training Season from January 7- February 27th. \nCLICK  TO VIEW ALL SESSIONS OFFERED.\nA club officer can attend any make up session that is offered.
URL:https://www.d44toastmasters.org/event/winter-club-officer-make-up-training-season-from-january-7-february-27th/
ATTACH;FMTTYPE=image/png:https://www.d44toastmasters.org/wp-content/uploads/2023/01/INSTAGRAM-Winter-TLI-Make-Up-Training-3.png
END:VEVENT
END:VCALENDAR