BEGIN:VCALENDAR
VERSION:2.0
PRODID:-//District 44 Toastmasters – Where Leaders Are Made - ECPv6.5.0//NONSGML v1.0//EN
CALSCALE:GREGORIAN
METHOD:PUBLISH
X-WR-CALNAME:District 44 Toastmasters – Where Leaders Are Made
X-ORIGINAL-URL:https://www.d44toastmasters.org
X-WR-CALDESC:Events for District 44 Toastmasters – Where Leaders Are Made
REFRESH-INTERVAL;VALUE=DURATION:PT1H
X-Robots-Tag:noindex
X-PUBLISHED-TTL:PT1H
BEGIN:VTIMEZONE
TZID:America/New_York
BEGIN:DAYLIGHT
TZOFFSETFROM:-0500
TZOFFSETTO:-0400
TZNAME:EDT
DTSTART:20250309T070000
END:DAYLIGHT
BEGIN:STANDARD
TZOFFSETFROM:-0400
TZOFFSETTO:-0500
TZNAME:EST
DTSTART:20251102T060000
END:STANDARD
END:VTIMEZONE
BEGIN:VEVENT
DTSTART;TZID=America/New_York:20250809T120000
DTEND;TZID=America/New_York:20250809T140000
DTSTAMP:20260422T073920
CREATED:20250718T172434Z
LAST-MODIFIED:20250718T173111Z
UID:4707-1754740800-1754748000@www.d44toastmasters.org
SUMMARY:Summer TLI Virtual Makeup: Division C\,D\,&E
DESCRIPTION:REGISTER | JOIN \nDistrict 44\, Make Up TLI registration is available now! Spread the word and don’t miss your chance to step into ColLABorative Leadership and strengthen your readiness as a club officer on the following dates: \n\nDivision A & B: Sunday\, August 3\, 2025 4-6pm\nDivisions C\, D\, & E: Saturday\, August 9\, 2025 12 – 2pm\nDivisions F & G: Wednesday\, August 13\, 2025 6-8pm\n\nJoin the training session hosted by your Division—it’s not only packed with valuable insights for your role\, but also a great opportunity to network with fellow leaders close by. \nNeed to attend a different session than your division? No worries at all—we’ve got you covered. \nREGISTER | JOIN
URL:https://www.d44toastmasters.org/event/summer-tli-virtual-makeup-division-cde/
CATEGORIES:Training
ATTACH;FMTTYPE=image/jpeg:https://www.d44toastmasters.org/wp-content/uploads/2025/07/SummerTLI2025Makeup.jpg
END:VEVENT
END:VCALENDAR