BEGIN:VCALENDAR
VERSION:2.0
PRODID:-//District 44 Toastmasters – Where Leaders Are Made - ECPv6.5.0//NONSGML v1.0//EN
CALSCALE:GREGORIAN
METHOD:PUBLISH
X-WR-CALNAME:District 44 Toastmasters – Where Leaders Are Made
X-ORIGINAL-URL:https://www.d44toastmasters.org
X-WR-CALDESC:Events for District 44 Toastmasters – Where Leaders Are Made
REFRESH-INTERVAL;VALUE=DURATION:PT1H
X-Robots-Tag:noindex
X-PUBLISHED-TTL:PT1H
BEGIN:VTIMEZONE
TZID:America/New_York
BEGIN:DAYLIGHT
TZOFFSETFROM:-0500
TZOFFSETTO:-0400
TZNAME:EDT
DTSTART:20250309T070000
END:DAYLIGHT
BEGIN:STANDARD
TZOFFSETFROM:-0400
TZOFFSETTO:-0500
TZNAME:EST
DTSTART:20251102T060000
END:STANDARD
END:VTIMEZONE
BEGIN:VEVENT
DTSTART;TZID=America/New_York:20250408T120000
DTEND;TZID=America/New_York:20250408T130000
DTSTAMP:20260422T210108
CREATED:20250408T010017Z
LAST-MODIFIED:20250408T010726Z
UID:4178-1744113600-1744117200@www.d44toastmasters.org
SUMMARY:Rise Up With The CGD
DESCRIPTION:🚀 RISE UP with the CGD!Join Barb Wallace\, DTM\, for a power-packed session on April 8th from 12–1 PM as she shares proven strategies to grow your club\, launch new ones\, and lead with impact. 💼✨Let’s build\, sponsor\, coach\, and mentor the next wave of leaders!🔗 district44.org/CGDLunch#D44Toastmasters #RISEUP #ClubGrowth #LeadershipInAction
URL:https://www.d44toastmasters.org/event/rise-up-with-the-cgd/
ATTACH;FMTTYPE=application/pdf:https://www.d44toastmasters.org/wp-content/uploads/2025/04/CGD-RISE-UP-2.pdf
END:VEVENT
END:VCALENDAR