BEGIN:VCALENDAR
VERSION:2.0
PRODID:-//District 44 Toastmasters – Where Leaders Are Made - ECPv6.5.0//NONSGML v1.0//EN
CALSCALE:GREGORIAN
METHOD:PUBLISH
X-WR-CALNAME:District 44 Toastmasters – Where Leaders Are Made
X-ORIGINAL-URL:https://www.d44toastmasters.org
X-WR-CALDESC:Events for District 44 Toastmasters – Where Leaders Are Made
REFRESH-INTERVAL;VALUE=DURATION:PT1H
X-Robots-Tag:noindex
X-PUBLISHED-TTL:PT1H
BEGIN:VTIMEZONE
TZID:America/New_York
BEGIN:DAYLIGHT
TZOFFSETFROM:-0500
TZOFFSETTO:-0400
TZNAME:EDT
DTSTART:20250309T070000
END:DAYLIGHT
BEGIN:STANDARD
TZOFFSETFROM:-0400
TZOFFSETTO:-0500
TZNAME:EST
DTSTART:20251102T060000
END:STANDARD
END:VTIMEZONE
BEGIN:VEVENT
DTSTART;TZID=America/New_York:20250610T120000
DTEND;TZID=America/New_York:20250610T130000
DTSTAMP:20260422T135446
CREATED:20250601T193358Z
LAST-MODIFIED:20250601T193358Z
UID:4233-1749556800-1749560400@www.d44toastmasters.org
SUMMARY:RISE UP! Lunch N' Learn
DESCRIPTION:REGISTER TODAY \nJoin us for an exciting event with Club Growth Director Barb Wallace\, DTM\, where you’ll discover dynamic strategies to attract\, engage\, and retain club members! Connect with fellow leaders\, gain expert insights\, and walk away with powerful tools to strengthen your club. Don’t miss this high-energy opportunity to learn\, grow\, and make a lasting impact! \nREGISTER TODAY
URL:https://www.d44toastmasters.org/event/rise-up-lunch-n-learn/
ATTACH;FMTTYPE=image/png:https://www.d44toastmasters.org/wp-content/uploads/2025/06/Copy-of-Copy-of-Rise-Up-Reach-Out-Renew.png
END:VEVENT
END:VCALENDAR