BEGIN:VCALENDAR
VERSION:2.0
PRODID:-//District 44 Toastmasters – Where Leaders Are Made - ECPv6.5.0//NONSGML v1.0//EN
CALSCALE:GREGORIAN
METHOD:PUBLISH
X-WR-CALNAME:District 44 Toastmasters – Where Leaders Are Made
X-ORIGINAL-URL:https://www.d44toastmasters.org
X-WR-CALDESC:Events for District 44 Toastmasters – Where Leaders Are Made
REFRESH-INTERVAL;VALUE=DURATION:PT1H
X-Robots-Tag:noindex
X-PUBLISHED-TTL:PT1H
BEGIN:VTIMEZONE
TZID:UTC
BEGIN:STANDARD
TZOFFSETFROM:+0000
TZOFFSETTO:+0000
TZNAME:UTC
DTSTART:20230101T000000
END:STANDARD
END:VTIMEZONE
BEGIN:VEVENT
DTSTART;TZID=UTC:20230322T190000
DTEND;TZID=UTC:20230322T200000
DTSTAMP:20260422T185703
CREATED:20230223T035024Z
LAST-MODIFIED:20230223T035024Z
UID:2188-1679511600-1679515200@www.d44toastmasters.org
SUMMARY:Rebuilding A Club
DESCRIPTION:Has your club been struggling to get above 12 members? Then you don’t want to miss this workshop! \nJoin PQD Rod Alexander and the 2010 – 2011 Toastmasters International President Pat Johnson as they provide you with steps on things your club can do to improve your membership base and get your club back to charter strength.
URL:https://www.d44toastmasters.org/event/rebuilding-a-club/
END:VEVENT
END:VCALENDAR