BEGIN:VCALENDAR
VERSION:2.0
PRODID:-//District 44 Toastmasters – Where Leaders Are Made - ECPv6.5.0//NONSGML v1.0//EN
CALSCALE:GREGORIAN
METHOD:PUBLISH
X-WR-CALNAME:District 44 Toastmasters – Where Leaders Are Made
X-ORIGINAL-URL:https://www.d44toastmasters.org
X-WR-CALDESC:Events for District 44 Toastmasters – Where Leaders Are Made
REFRESH-INTERVAL;VALUE=DURATION:PT1H
X-Robots-Tag:noindex
X-PUBLISHED-TTL:PT1H
BEGIN:VTIMEZONE
TZID:America/New_York
BEGIN:DAYLIGHT
TZOFFSETFROM:-0500
TZOFFSETTO:-0400
TZNAME:EDT
DTSTART:20230312T070000
END:DAYLIGHT
BEGIN:STANDARD
TZOFFSETFROM:-0400
TZOFFSETTO:-0500
TZNAME:EST
DTSTART:20231105T060000
END:STANDARD
END:VTIMEZONE
BEGIN:VEVENT
DTSTART;TZID=America/New_York:20230928T190000
DTEND;TZID=America/New_York:20230928T200000
DTSTAMP:20260423T112054
CREATED:20230918T142924Z
LAST-MODIFIED:20230926T233218Z
UID:2716-1695927600-1695931200@www.d44toastmasters.org
SUMMARY:PR Academy
DESCRIPTION:Save your date for PR Academy Event\nThursday\, September 28\, 2023\, 7:00pm – 8:00pm EDT (Virtual)
URL:https://www.d44toastmasters.org/event/pr-academy/
END:VEVENT
END:VCALENDAR