BEGIN:VCALENDAR
VERSION:2.0
PRODID:-//District 44 Toastmasters – Where Leaders Are Made - ECPv6.5.0//NONSGML v1.0//EN
CALSCALE:GREGORIAN
METHOD:PUBLISH
X-WR-CALNAME:District 44 Toastmasters – Where Leaders Are Made
X-ORIGINAL-URL:https://www.d44toastmasters.org
X-WR-CALDESC:Events for District 44 Toastmasters – Where Leaders Are Made
REFRESH-INTERVAL;VALUE=DURATION:PT1H
X-Robots-Tag:noindex
X-PUBLISHED-TTL:PT1H
BEGIN:VTIMEZONE
TZID:America/Halifax
BEGIN:DAYLIGHT
TZOFFSETFROM:-0400
TZOFFSETTO:-0300
TZNAME:ADT
DTSTART:20230312T060000
END:DAYLIGHT
BEGIN:STANDARD
TZOFFSETFROM:-0300
TZOFFSETTO:-0400
TZNAME:AST
DTSTART:20231105T050000
END:STANDARD
END:VTIMEZONE
BEGIN:VEVENT
DTSTART;TZID=America/Halifax:20230731T080000
DTEND;TZID=America/Halifax:20230731T230000
DTSTAMP:20260423T000740
CREATED:20230731T225819Z
LAST-MODIFIED:20230731T225819Z
UID:2539-1690790400-1690844400@www.d44toastmasters.org
SUMMARY:October 2023 Dues Renewal Savings
DESCRIPTION:TODAY is the last day for our Legacy renewal rate. \nAfter today\, July 31\, 2023\, October will be at the increased rate of $60 for semi-annual plus applicable local club dues. \nEarly Bird Renewals at 25% off deadline is today\, July 31\, 2023 \nRenew today and save 25% = $45.00 for semi-annual dues for October 2023 plus any applicable local club dues \nRenewal received today will be at $60 for semi-annual dues plus local club dues.
URL:https://www.d44toastmasters.org/event/october-2023-dues-renewal-savings/
END:VEVENT
END:VCALENDAR