BEGIN:VCALENDAR
VERSION:2.0
PRODID:-//District 44 Toastmasters – Where Leaders Are Made - ECPv6.5.0//NONSGML v1.0//EN
CALSCALE:GREGORIAN
METHOD:PUBLISH
X-WR-CALNAME:District 44 Toastmasters – Where Leaders Are Made
X-ORIGINAL-URL:https://www.d44toastmasters.org
X-WR-CALDESC:Events for District 44 Toastmasters – Where Leaders Are Made
REFRESH-INTERVAL;VALUE=DURATION:PT1H
X-Robots-Tag:noindex
X-PUBLISHED-TTL:PT1H
BEGIN:VTIMEZONE
TZID:America/New_York
BEGIN:DAYLIGHT
TZOFFSETFROM:-0500
TZOFFSETTO:-0400
TZNAME:EDT
DTSTART:20250309T070000
END:DAYLIGHT
BEGIN:STANDARD
TZOFFSETFROM:-0400
TZOFFSETTO:-0500
TZNAME:EST
DTSTART:20251102T060000
END:STANDARD
END:VTIMEZONE
BEGIN:VEVENT
DTSTART;TZID=America/New_York:20250521T180000
DTEND;TZID=America/New_York:20250521T190000
DTSTAMP:20260422T173824
CREATED:20250520T001905Z
LAST-MODIFIED:20250521T225623Z
UID:4217-1747850400-1747854000@www.d44toastmasters.org
SUMMARY:Membership Building Tools: Moments of Truth
DESCRIPTION:  \n🚀 Ready to grow your club?\nJoin us for “Membership Building Tools: Moments of Truth” on Wednesday\, May 21st at 6 PM EST!\nGain actionable strategies to attract new members\, retain current ones\, and boost your club’s overall success. 💡 \nhttps://district44.org/MemberTools \n🔑 Don’t miss this opportunity to unlock the power of member engagement!\n#Toastmasters #MembershipMatters #District44 #MomentsOfTruth #ClubGrowth #RISEUP \n 
URL:https://www.d44toastmasters.org/event/membership-building-tools-moments-of-truth-3/
ATTACH;FMTTYPE=image/png:https://www.d44toastmasters.org/wp-content/uploads/2025/05/Website-Collateral.png
END:VEVENT
END:VCALENDAR