BEGIN:VCALENDAR
VERSION:2.0
PRODID:-//District 44 Toastmasters – Where Leaders Are Made - ECPv6.5.0//NONSGML v1.0//EN
CALSCALE:GREGORIAN
METHOD:PUBLISH
X-WR-CALNAME:District 44 Toastmasters – Where Leaders Are Made
X-ORIGINAL-URL:https://www.d44toastmasters.org
X-WR-CALDESC:Events for District 44 Toastmasters – Where Leaders Are Made
REFRESH-INTERVAL;VALUE=DURATION:PT1H
X-Robots-Tag:noindex
X-PUBLISHED-TTL:PT1H
BEGIN:VTIMEZONE
TZID:America/Halifax
BEGIN:DAYLIGHT
TZOFFSETFROM:-0400
TZOFFSETTO:-0300
TZNAME:ADT
DTSTART:20230312T060000
END:DAYLIGHT
BEGIN:STANDARD
TZOFFSETFROM:-0300
TZOFFSETTO:-0400
TZNAME:AST
DTSTART:20231105T050000
END:STANDARD
END:VTIMEZONE
BEGIN:VEVENT
DTSTART;TZID=America/Halifax:20230824T183000
DTEND;TZID=America/Halifax:20230824T200000
DTSTAMP:20260422T205020
CREATED:20230728T071935Z
LAST-MODIFIED:20230728T072025Z
UID:2532-1692901800-1692907200@www.d44toastmasters.org
SUMMARY:Lighthouse Lesson 1
DESCRIPTION:Interested in Success? Join us for an exclusive Planning and Preparation webinar! Learn valuable insights\, tips\, and strategies to make your Toastmasters plans a success! \nRegister now… \nAugust 24\, 2023\, 6:30pm – 8:00pm EDT
URL:https://www.d44toastmasters.org/event/lighthouse-lesson-1/
END:VEVENT
END:VCALENDAR