BEGIN:VCALENDAR
VERSION:2.0
PRODID:-//District 44 Toastmasters – Where Leaders Are Made - ECPv6.5.0//NONSGML v1.0//EN
CALSCALE:GREGORIAN
METHOD:PUBLISH
X-WR-CALNAME:District 44 Toastmasters – Where Leaders Are Made
X-ORIGINAL-URL:https://www.d44toastmasters.org
X-WR-CALDESC:Events for District 44 Toastmasters – Where Leaders Are Made
REFRESH-INTERVAL;VALUE=DURATION:PT1H
X-Robots-Tag:noindex
X-PUBLISHED-TTL:PT1H
BEGIN:VTIMEZONE
TZID:America/New_York
BEGIN:DAYLIGHT
TZOFFSETFROM:-0500
TZOFFSETTO:-0400
TZNAME:EDT
DTSTART:20230312T070000
END:DAYLIGHT
BEGIN:STANDARD
TZOFFSETFROM:-0400
TZOFFSETTO:-0500
TZNAME:EST
DTSTART:20231105T060000
END:STANDARD
END:VTIMEZONE
BEGIN:VEVENT
DTSTART;TZID=America/New_York:20230918T190000
DTEND;TZID=America/New_York:20230918T203000
DTSTAMP:20260423T075021
CREATED:20230909T220751Z
LAST-MODIFIED:20230909T220751Z
UID:2695-1695063600-1695069000@www.d44toastmasters.org
SUMMARY:Fireside Chat with Senior 6
DESCRIPTION:YOUR District Leaders would like to meet you  Join us on Monday\, September 18th at 7pm for some networking fun that is sure to have you asking… when’s the next event!! \nSave your seat br registering at 
URL:https://www.d44toastmasters.org/event/fireside-chat-with-senior-6/
END:VEVENT
END:VCALENDAR