BEGIN:VCALENDAR
VERSION:2.0
PRODID:-//District 44 Toastmasters – Where Leaders Are Made - ECPv6.5.0//NONSGML v1.0//EN
CALSCALE:GREGORIAN
METHOD:PUBLISH
X-WR-CALNAME:District 44 Toastmasters – Where Leaders Are Made
X-ORIGINAL-URL:https://www.d44toastmasters.org
X-WR-CALDESC:Events for District 44 Toastmasters – Where Leaders Are Made
REFRESH-INTERVAL;VALUE=DURATION:PT1H
X-Robots-Tag:noindex
X-PUBLISHED-TTL:PT1H
BEGIN:VTIMEZONE
TZID:America/Halifax
BEGIN:DAYLIGHT
TZOFFSETFROM:-0400
TZOFFSETTO:-0300
TZNAME:ADT
DTSTART:20230312T060000
END:DAYLIGHT
BEGIN:STANDARD
TZOFFSETFROM:-0300
TZOFFSETTO:-0400
TZNAME:AST
DTSTART:20231105T050000
END:STANDARD
END:VTIMEZONE
BEGIN:VEVENT
DTSTART;TZID=America/Halifax:20230923T100000
DTEND;TZID=America/Halifax:20230923T120000
DTSTAMP:20260423T030139
CREATED:20230803T054151Z
LAST-MODIFIED:20230920T032546Z
UID:2545-1695463200-1695470400@www.d44toastmasters.org
SUMMARY:Fall Business Meeting
DESCRIPTION:Fall Business Meeting (Virtual)\nSaturday\, September 23\, 2023–Fall Business Meeting (Virtual) at 10:00am EDT \nTime: 10:00am – 12:00pm EDT \nRegistration should have been sent out to all Club Presidents\, VPs Education and District Officers separately.
URL:https://www.d44toastmasters.org/event/fall-business-meeting/
END:VEVENT
END:VCALENDAR