BEGIN:VCALENDAR
VERSION:2.0
PRODID:-//District 44 Toastmasters – Where Leaders Are Made - ECPv6.5.0//NONSGML v1.0//EN
CALSCALE:GREGORIAN
METHOD:PUBLISH
X-WR-CALNAME:District 44 Toastmasters – Where Leaders Are Made
X-ORIGINAL-URL:https://www.d44toastmasters.org
X-WR-CALDESC:Events for District 44 Toastmasters – Where Leaders Are Made
REFRESH-INTERVAL;VALUE=DURATION:PT1H
X-Robots-Tag:noindex
X-PUBLISHED-TTL:PT1H
BEGIN:VTIMEZONE
TZID:UTC
BEGIN:STANDARD
TZOFFSETFROM:+0000
TZOFFSETTO:+0000
TZNAME:UTC
DTSTART:20230101T000000
END:STANDARD
END:VTIMEZONE
BEGIN:VEVENT
DTSTART;TZID=UTC:20230625T160000
DTEND;TZID=UTC:20230625T190000
DTSTAMP:20260422T073222
CREATED:20230608T183350Z
LAST-MODIFIED:20230608T183350Z
UID:2333-1687708800-1687719600@www.d44toastmasters.org
SUMMARY:End of the Year Celebration
DESCRIPTION:You are invited to District 44 End of the Year Celebration \nWhen: Sunday\, June 25\, 2023 \nTime: 4:00pm – 7:00pm EDT \nVenue: Hilton Atlanta\, NE Hotel\,\nAddress: 5993 Peachtree Industrial Blvd\, Peachtree Corners\, GA \nRSVPs are required for attendance\, limited space available\, please RSVP today! The event is FREE. \nRegister here…
URL:https://www.d44toastmasters.org/event/end-of-the-year-celebration/
END:VEVENT
END:VCALENDAR