BEGIN:VCALENDAR
VERSION:2.0
PRODID:-//District 44 Toastmasters – Where Leaders Are Made - ECPv6.5.0//NONSGML v1.0//EN
CALSCALE:GREGORIAN
METHOD:PUBLISH
X-WR-CALNAME:District 44 Toastmasters – Where Leaders Are Made
X-ORIGINAL-URL:https://www.d44toastmasters.org
X-WR-CALDESC:Events for District 44 Toastmasters – Where Leaders Are Made
REFRESH-INTERVAL;VALUE=DURATION:PT1H
X-Robots-Tag:noindex
X-PUBLISHED-TTL:PT1H
BEGIN:VTIMEZONE
TZID:UTC
BEGIN:STANDARD
TZOFFSETFROM:+0000
TZOFFSETTO:+0000
TZNAME:UTC
DTSTART:20230101T000000
END:STANDARD
END:VTIMEZONE
BEGIN:VEVENT
DTSTART;TZID=UTC:20230415T123000
DTEND;TZID=UTC:20230415T140000
DTSTAMP:20260422T133018
CREATED:20230325T005436Z
LAST-MODIFIED:20230329T165430Z
UID:2237-1681561800-1681567200@www.d44toastmasters.org
SUMMARY:Division G Contests
DESCRIPTION:Division G Hybrid Contests \nApril 15\, 2023\, 12:30pm -2:00pm EDT \nClick here to register via zoom… \nOnsite Venue: \nJohns Creek Presbyterian Church\n10950 Bell Rd\, Johns Creek\, GA 30097
URL:https://www.d44toastmasters.org/event/division-g-contests/
END:VEVENT
END:VCALENDAR