BEGIN:VCALENDAR
VERSION:2.0
PRODID:-//District 44 Toastmasters – Where Leaders Are Made - ECPv6.5.0//NONSGML v1.0//EN
CALSCALE:GREGORIAN
METHOD:PUBLISH
X-WR-CALNAME:District 44 Toastmasters – Where Leaders Are Made
X-ORIGINAL-URL:https://www.d44toastmasters.org
X-WR-CALDESC:Events for District 44 Toastmasters – Where Leaders Are Made
REFRESH-INTERVAL;VALUE=DURATION:PT1H
X-Robots-Tag:noindex
X-PUBLISHED-TTL:PT1H
BEGIN:VTIMEZONE
TZID:UTC
BEGIN:STANDARD
TZOFFSETFROM:+0000
TZOFFSETTO:+0000
TZNAME:UTC
DTSTART:20230101T000000
END:STANDARD
END:VTIMEZONE
BEGIN:VEVENT
DTSTART;TZID=UTC:20230615T180000
DTEND;TZID=UTC:20230615T203000
DTSTAMP:20260422T060605
CREATED:20230523T234757Z
LAST-MODIFIED:20230523T234757Z
UID:2319-1686852000-1686861000@www.d44toastmasters.org
SUMMARY:Division Director 2023-2024 Training
DESCRIPTION:Division Director 2023-2024 Training (Part 1) \nJune 15\, 2023 (Thursday)\, 6:00pm-8:30pm EDT \nVia Zoom (Please get with pqd@d44toastmasters.org for zoom link as this link is internal only! \n 
URL:https://www.d44toastmasters.org/event/division-director-2023-2024-training/
END:VEVENT
END:VCALENDAR