BEGIN:VCALENDAR
VERSION:2.0
PRODID:-//District 44 Toastmasters – Where Leaders Are Made - ECPv6.5.0//NONSGML v1.0//EN
CALSCALE:GREGORIAN
METHOD:PUBLISH
X-WR-CALNAME:District 44 Toastmasters – Where Leaders Are Made
X-ORIGINAL-URL:https://www.d44toastmasters.org
X-WR-CALDESC:Events for District 44 Toastmasters – Where Leaders Are Made
REFRESH-INTERVAL;VALUE=DURATION:PT1H
X-Robots-Tag:noindex
X-PUBLISHED-TTL:PT1H
BEGIN:VTIMEZONE
TZID:America/Halifax
BEGIN:DAYLIGHT
TZOFFSETFROM:-0400
TZOFFSETTO:-0300
TZNAME:ADT
DTSTART:20230312T060000
END:DAYLIGHT
BEGIN:STANDARD
TZOFFSETFROM:-0300
TZOFFSETTO:-0400
TZNAME:AST
DTSTART:20231105T050000
END:STANDARD
END:VTIMEZONE
BEGIN:VEVENT
DTSTART;TZID=America/Halifax:20230802T190000
DTEND;TZID=America/Halifax:20230802T213000
DTSTAMP:20260422T132213
CREATED:20230725T182715Z
LAST-MODIFIED:20230725T182715Z
UID:2519-1691002800-1691011800@www.d44toastmasters.org
SUMMARY:Division A & B Make-up TLI Training
DESCRIPTION:Division A & B Make-up TLI Training\nWednesday\, August 2\, 2023\, 7:00pm – 9:30pm EDT \nRegister here…
URL:https://www.d44toastmasters.org/event/division-a-b-make-up-tli-training/
END:VEVENT
END:VCALENDAR