BEGIN:VCALENDAR
VERSION:2.0
PRODID:-//District 44 Toastmasters – Where Leaders Are Made - ECPv6.5.0//NONSGML v1.0//EN
CALSCALE:GREGORIAN
METHOD:PUBLISH
X-WR-CALNAME:District 44 Toastmasters – Where Leaders Are Made
X-ORIGINAL-URL:https://www.d44toastmasters.org
X-WR-CALDESC:Events for District 44 Toastmasters – Where Leaders Are Made
REFRESH-INTERVAL;VALUE=DURATION:PT1H
X-Robots-Tag:noindex
X-PUBLISHED-TTL:PT1H
BEGIN:VTIMEZONE
TZID:UTC
BEGIN:STANDARD
TZOFFSETFROM:+0000
TZOFFSETTO:+0000
TZNAME:UTC
DTSTART:20230101T000000
END:STANDARD
END:VTIMEZONE
BEGIN:VEVENT
DTSTART;TZID=UTC:20230313T190000
DTEND;TZID=UTC:20230313T203000
DTSTAMP:20260424T082927
CREATED:20230120T063252Z
LAST-MODIFIED:20230310T021740Z
UID:2011-1678734000-1678739400@www.d44toastmasters.org
SUMMARY:CREATE TO ELEVATE 2023: How to Start a Toastmasters Club
DESCRIPTION:You are cordially invited to come and learn about the steps to starting your very own Toastmasters club within your company or community. You will also hear from current leaders about how Toastmasters helped build their career\, bolstered their confidence and awakened the power within them. Join us by registering at bit.ly/D44_Create_To_Elevate. We look forward to seeing you there!
URL:https://www.d44toastmasters.org/event/create-to-elevate-2023-how-to-start-a-toastmasters-club/
END:VEVENT
END:VCALENDAR