BEGIN:VCALENDAR
VERSION:2.0
PRODID:-//District 44 Toastmasters – Where Leaders Are Made - ECPv6.5.0//NONSGML v1.0//EN
CALSCALE:GREGORIAN
METHOD:PUBLISH
X-WR-CALNAME:District 44 Toastmasters – Where Leaders Are Made
X-ORIGINAL-URL:https://www.d44toastmasters.org
X-WR-CALDESC:Events for District 44 Toastmasters – Where Leaders Are Made
REFRESH-INTERVAL;VALUE=DURATION:PT1H
X-Robots-Tag:noindex
X-PUBLISHED-TTL:PT1H
BEGIN:VTIMEZONE
TZID:UTC
BEGIN:STANDARD
TZOFFSETFROM:+0000
TZOFFSETTO:+0000
TZNAME:UTC
DTSTART:20230101T000000
END:STANDARD
END:VTIMEZONE
BEGIN:VEVENT
DTSTART;TZID=UTC:20230516T183000
DTEND;TZID=UTC:20230516T200000
DTSTAMP:20260422T060017
CREATED:20230503T223642Z
LAST-MODIFIED:20230503T223642Z
UID:2297-1684261800-1684267200@www.d44toastmasters.org
SUMMARY:Connection Central
DESCRIPTION:In the spirit of the District’s 4 C’s vision of Community\, Collaboration\, Connection\, and Clarity\, come CONNECT personally and professionally with your District 44 family. Connection Central has been organized to allow you to meet\, greet\, and socialize with Toastmasters all across the District through what we all love best…Fun\, Fun\, and more Fun!We will also be celebrating May being proclaimed as Toastmasters month! This is an event that you DO NOT want to miss! \nRegister today at 
URL:https://www.d44toastmasters.org/event/connection-central/
END:VEVENT
END:VCALENDAR