BEGIN:VCALENDAR
VERSION:2.0
PRODID:-//District 44 Toastmasters – Where Leaders Are Made - ECPv6.5.0//NONSGML v1.0//EN
CALSCALE:GREGORIAN
METHOD:PUBLISH
X-WR-CALNAME:District 44 Toastmasters – Where Leaders Are Made
X-ORIGINAL-URL:https://www.d44toastmasters.org
X-WR-CALDESC:Events for District 44 Toastmasters – Where Leaders Are Made
REFRESH-INTERVAL;VALUE=DURATION:PT1H
X-Robots-Tag:noindex
X-PUBLISHED-TTL:PT1H
BEGIN:VTIMEZONE
TZID:UTC
BEGIN:STANDARD
TZOFFSETFROM:+0000
TZOFFSETTO:+0000
TZNAME:UTC
DTSTART:20230101T000000
END:STANDARD
END:VTIMEZONE
BEGIN:VEVENT
DTSTART;TZID=UTC:20230216T183000
DTEND;TZID=UTC:20230216T213000
DTSTAMP:20260423T061545
CREATED:20230215T210559Z
LAST-MODIFIED:20230215T211547Z
UID:2136-1676572200-1676583000@www.d44toastmasters.org
SUMMARY:Areas G71\, G74 & G75 Contests
DESCRIPTION:Areas G71\, G74 & G75 Contests\, February 16\, 2023 at 6:30 pm EST \nClick here for contests zoom link…
URL:https://www.d44toastmasters.org/event/areas-g71-g74-g75-contests/
END:VEVENT
END:VCALENDAR