BEGIN:VCALENDAR
VERSION:2.0
PRODID:-//District 44 Toastmasters – Where Leaders Are Made - ECPv6.5.0//NONSGML v1.0//EN
CALSCALE:GREGORIAN
METHOD:PUBLISH
X-WR-CALNAME:District 44 Toastmasters – Where Leaders Are Made
X-ORIGINAL-URL:https://www.d44toastmasters.org
X-WR-CALDESC:Events for District 44 Toastmasters – Where Leaders Are Made
REFRESH-INTERVAL;VALUE=DURATION:PT1H
X-Robots-Tag:noindex
X-PUBLISHED-TTL:PT1H
BEGIN:VTIMEZONE
TZID:UTC
BEGIN:STANDARD
TZOFFSETFROM:+0000
TZOFFSETTO:+0000
TZNAME:UTC
DTSTART:20230101T000000
END:STANDARD
END:VTIMEZONE
BEGIN:VEVENT
DTSTART;TZID=UTC:20230304T100000
DTEND;TZID=UTC:20230304T120000
DTSTAMP:20260423T124954
CREATED:20230215T204353Z
LAST-MODIFIED:20230215T204353Z
UID:2120-1677924000-1677931200@www.d44toastmasters.org
SUMMARY:Areas B24 and B25 Contests
DESCRIPTION:Area B24 and B25 Contests\, March 4\, 2023 at 10:00 am EST \nClick here for contests zoom link…
URL:https://www.d44toastmasters.org/event/areas-b24-and-b25-contests/
END:VEVENT
END:VCALENDAR