BEGIN:VCALENDAR
VERSION:2.0
PRODID:-//District 44 Toastmasters – Where Leaders Are Made - ECPv6.5.0//NONSGML v1.0//EN
CALSCALE:GREGORIAN
METHOD:PUBLISH
X-WR-CALNAME:District 44 Toastmasters – Where Leaders Are Made
X-ORIGINAL-URL:https://www.d44toastmasters.org
X-WR-CALDESC:Events for District 44 Toastmasters – Where Leaders Are Made
REFRESH-INTERVAL;VALUE=DURATION:PT1H
X-Robots-Tag:noindex
X-PUBLISHED-TTL:PT1H
BEGIN:VTIMEZONE
TZID:UTC
BEGIN:STANDARD
TZOFFSETFROM:+0000
TZOFFSETTO:+0000
TZNAME:UTC
DTSTART:20230101T000000
END:STANDARD
END:VTIMEZONE
BEGIN:VEVENT
DTSTART;TZID=UTC:20230318T130000
DTEND;TZID=UTC:20230318T153000
DTSTAMP:20260423T014158
CREATED:20230215T212329Z
LAST-MODIFIED:20230310T022346Z
UID:2146-1679144400-1679153400@www.d44toastmasters.org
SUMMARY:Area H84 Contests
DESCRIPTION:Area H84 Contests\, March 18\, 2023 at 1:00pm EST \nClick here for contests zoom link…
URL:https://www.d44toastmasters.org/event/area-h84-contests/
END:VEVENT
END:VCALENDAR