BEGIN:VCALENDAR
VERSION:2.0
PRODID:-//District 44 Toastmasters – Where Leaders Are Made - ECPv6.5.0//NONSGML v1.0//EN
CALSCALE:GREGORIAN
METHOD:PUBLISH
X-WR-CALNAME:District 44 Toastmasters – Where Leaders Are Made
X-ORIGINAL-URL:https://www.d44toastmasters.org
X-WR-CALDESC:Events for District 44 Toastmasters – Where Leaders Are Made
REFRESH-INTERVAL;VALUE=DURATION:PT1H
X-Robots-Tag:noindex
X-PUBLISHED-TTL:PT1H
BEGIN:VTIMEZONE
TZID:UTC
BEGIN:STANDARD
TZOFFSETFROM:+0000
TZOFFSETTO:+0000
TZNAME:UTC
DTSTART:20230101T000000
END:STANDARD
END:VTIMEZONE
BEGIN:VEVENT
DTSTART;TZID=UTC:20230228T183000
DTEND;TZID=UTC:20230228T210000
DTSTAMP:20260423T161547
CREATED:20230215T203827Z
LAST-MODIFIED:20230215T212016Z
UID:2114-1677609000-1677618000@www.d44toastmasters.org
SUMMARY:Area F62 & F63 Contests
DESCRIPTION:Areas F62 and F63 Contests\, February 28\, 2023 at 6:30 pm EST \nClick here for contests zoom link…
URL:https://www.d44toastmasters.org/event/area-f62-f63-contests/
END:VEVENT
END:VCALENDAR