BEGIN:VCALENDAR
VERSION:2.0
PRODID:-//District 44 Toastmasters – Where Leaders Are Made - ECPv6.5.0//NONSGML v1.0//EN
CALSCALE:GREGORIAN
METHOD:PUBLISH
X-WR-CALNAME:District 44 Toastmasters – Where Leaders Are Made
X-ORIGINAL-URL:https://www.d44toastmasters.org
X-WR-CALDESC:Events for District 44 Toastmasters – Where Leaders Are Made
REFRESH-INTERVAL;VALUE=DURATION:PT1H
X-Robots-Tag:noindex
X-PUBLISHED-TTL:PT1H
BEGIN:VTIMEZONE
TZID:UTC
BEGIN:STANDARD
TZOFFSETFROM:+0000
TZOFFSETTO:+0000
TZNAME:UTC
DTSTART:20230101T000000
END:STANDARD
END:VTIMEZONE
BEGIN:VEVENT
DTSTART;TZID=UTC:20230624T100000
DTEND;TZID=UTC:20230624T130000
DTSTAMP:20260422T042933
CREATED:20230523T234617Z
LAST-MODIFIED:20230523T234617Z
UID:2317-1687600800-1687611600@www.d44toastmasters.org
SUMMARY:Area Directors 2023-2024 Training
DESCRIPTION:Area Directors 2023-2024 Term Training: \nSaturday\, June 24\, 2023\, \n10:00am – 1:00pm EDT \nVenue: TBD
URL:https://www.d44toastmasters.org/event/area-directors-2023-2024-training/
END:VEVENT
END:VCALENDAR