BEGIN:VCALENDAR
VERSION:2.0
PRODID:-//District 44 Toastmasters – Where Leaders Are Made - ECPv6.5.0//NONSGML v1.0//EN
CALSCALE:GREGORIAN
METHOD:PUBLISH
X-WR-CALNAME:District 44 Toastmasters – Where Leaders Are Made
X-ORIGINAL-URL:https://www.d44toastmasters.org
X-WR-CALDESC:Events for District 44 Toastmasters – Where Leaders Are Made
REFRESH-INTERVAL;VALUE=DURATION:PT1H
X-Robots-Tag:noindex
X-PUBLISHED-TTL:PT1H
BEGIN:VTIMEZONE
TZID:America/New_York
BEGIN:DAYLIGHT
TZOFFSETFROM:-0500
TZOFFSETTO:-0400
TZNAME:EDT
DTSTART:20250309T070000
END:DAYLIGHT
BEGIN:STANDARD
TZOFFSETFROM:-0400
TZOFFSETTO:-0500
TZNAME:EST
DTSTART:20251102T060000
END:STANDARD
END:VTIMEZONE
BEGIN:VEVENT
DTSTART;TZID=America/New_York:20251213T100000
DTEND;TZID=America/New_York:20251213T140000
DTSTAMP:20260423T174231
CREATED:20251003T014837Z
LAST-MODIFIED:20251205T121457Z
UID:5303-1765620000-1765634400@www.d44toastmasters.org
SUMMARY:Area D41 Speech Contests
DESCRIPTION:JOIN US AS THE BEST SPEAKERS OF AREA D41 COMPETE!\n\nCategories: International Speech & Table Topics \nGet ready for an inspiring showcase of talent\, passion\, and the art of public speaking! Contestants from across Area D41 will take the stage to deliver powerful speeches and impromptu responses that will leave you motivated and entertained. \nThis is more than a competition—it’s a celebration of communication\, leadership\, and community. Whether you’re a Toastmaster\, a guest\, or simply curious\, you won’t want to miss it! \nCome cheer on the contestants\, network with fellow leaders\, and witness the power of words in action. \nAdmission is free and open to all—guests welcome!
URL:https://www.d44toastmasters.org/event/area-d41-speech-contests/
LOCATION:Friendship Community Church Theater\, 4141 Old Fairburn Rd.\, Atlanta\, GA\, 30349\, United States
CATEGORIES:Contest
ATTACH;FMTTYPE=image/jpeg:https://www.d44toastmasters.org/wp-content/uploads/2025/10/D41-2.avif
END:VEVENT
END:VCALENDAR