BEGIN:VCALENDAR
VERSION:2.0
PRODID:-//District 44 Toastmasters – Where Leaders Are Made - ECPv6.5.0//NONSGML v1.0//EN
CALSCALE:GREGORIAN
METHOD:PUBLISH
X-WR-CALNAME:District 44 Toastmasters – Where Leaders Are Made
X-ORIGINAL-URL:https://www.d44toastmasters.org
X-WR-CALDESC:Events for District 44 Toastmasters – Where Leaders Are Made
REFRESH-INTERVAL;VALUE=DURATION:PT1H
X-Robots-Tag:noindex
X-PUBLISHED-TTL:PT1H
BEGIN:VTIMEZONE
TZID:UTC
BEGIN:STANDARD
TZOFFSETFROM:+0000
TZOFFSETTO:+0000
TZNAME:UTC
DTSTART:20230101T000000
END:STANDARD
END:VTIMEZONE
BEGIN:VEVENT
DTSTART;TZID=UTC:20230223T180000
DTEND;TZID=UTC:20230223T210000
DTSTAMP:20260423T214625
CREATED:20230215T202916Z
LAST-MODIFIED:20230215T203647Z
UID:2102-1677175200-1677186000@www.d44toastmasters.org
SUMMARY:Area D41\, D43\, D46\, F61\,F64 Contests
DESCRIPTION:Area D41\, D43\, D46 Contests on February 23\, 2023 at 6:00pm EST \nArea F61 & F64 Contests on February 23\, 2023 at 6:30pm EST – 9:00 pm EST \nClick here for Area F64 contest zoom link…
URL:https://www.d44toastmasters.org/event/area-d41-d43-d46-f61-f64-contests/
END:VEVENT
END:VCALENDAR