BEGIN:VCALENDAR
VERSION:2.0
PRODID:-//District 44 Toastmasters – Where Leaders Are Made - ECPv6.5.0//NONSGML v1.0//EN
CALSCALE:GREGORIAN
METHOD:PUBLISH
X-WR-CALNAME:District 44 Toastmasters – Where Leaders Are Made
X-ORIGINAL-URL:https://www.d44toastmasters.org
X-WR-CALDESC:Events for District 44 Toastmasters – Where Leaders Are Made
REFRESH-INTERVAL;VALUE=DURATION:PT1H
X-Robots-Tag:noindex
X-PUBLISHED-TTL:PT1H
BEGIN:VTIMEZONE
TZID:America/New_York
BEGIN:DAYLIGHT
TZOFFSETFROM:-0500
TZOFFSETTO:-0400
TZNAME:EDT
DTSTART:20250309T070000
END:DAYLIGHT
BEGIN:STANDARD
TZOFFSETFROM:-0400
TZOFFSETTO:-0500
TZNAME:EST
DTSTART:20251102T060000
END:STANDARD
END:VTIMEZONE
BEGIN:VEVENT
DTSTART;VALUE=DATE:20251101
DTEND;VALUE=DATE:20260101
DTSTAMP:20260422T063003
CREATED:20250719T215807Z
LAST-MODIFIED:20251231T025342Z
UID:4770-1761955200-1767225599@www.d44toastmasters.org
SUMMARY:Area Contest Season
DESCRIPTION:INTERNATIONAL SPEECH + TABLE TOPICS CONTEST \nReady for the Next Round? Area Contests Await!\nThe best from each club now take the stage in the Area Contests! Showcase your speaking excellence and cheer on fellow Toastmasters. \nArea Contest will be held: November 1\, 2025 – January 31\, 2026 \nWe will not host contest:\nNovember 23 – 29\, 2025\nDecember 21\, 2025 – January 2\, 2026 \nArea Directors – Confirm your contest date\, recruit your team\, and get your resources ready.Contestants – You’ve earned this. Represent your club and rise to the challenge! \nPrep for the spotlight—get your Area Contest Guide coming soon!
URL:https://www.d44toastmasters.org/event/area-contest-season/
CATEGORIES:Contest
END:VEVENT
END:VCALENDAR