BEGIN:VCALENDAR
VERSION:2.0
PRODID:-//District 44 Toastmasters – Where Leaders Are Made - ECPv6.5.0//NONSGML v1.0//EN
CALSCALE:GREGORIAN
METHOD:PUBLISH
X-WR-CALNAME:District 44 Toastmasters – Where Leaders Are Made
X-ORIGINAL-URL:https://www.d44toastmasters.org
X-WR-CALDESC:Events for District 44 Toastmasters – Where Leaders Are Made
REFRESH-INTERVAL;VALUE=DURATION:PT1H
X-Robots-Tag:noindex
X-PUBLISHED-TTL:PT1H
BEGIN:VTIMEZONE
TZID:UTC
BEGIN:STANDARD
TZOFFSETFROM:+0000
TZOFFSETTO:+0000
TZNAME:UTC
DTSTART:20230101T000000
END:STANDARD
END:VTIMEZONE
BEGIN:VEVENT
DTSTART;TZID=UTC:20230301T190000
DTEND;TZID=UTC:20230301T210000
DTSTAMP:20260423T061157
CREATED:20230215T210948Z
LAST-MODIFIED:20230215T210948Z
UID:2138-1677697200-1677704400@www.d44toastmasters.org
SUMMARY:Area C31 & C32 Contests
DESCRIPTION:Area C31 and C32 Contests\, March 1\, 2023 at 7:00pm EST \nZoom link to follow shortly…
URL:https://www.d44toastmasters.org/event/area-c31-c32-contests/
END:VEVENT
END:VCALENDAR