BEGIN:VCALENDAR
VERSION:2.0
PRODID:-//District 44 Toastmasters – Where Leaders Are Made - ECPv6.5.0//NONSGML v1.0//EN
CALSCALE:GREGORIAN
METHOD:PUBLISH
X-WR-CALNAME:District 44 Toastmasters – Where Leaders Are Made
X-ORIGINAL-URL:https://www.d44toastmasters.org
X-WR-CALDESC:Events for District 44 Toastmasters – Where Leaders Are Made
REFRESH-INTERVAL;VALUE=DURATION:PT1H
X-Robots-Tag:noindex
X-PUBLISHED-TTL:PT1H
BEGIN:VTIMEZONE
TZID:UTC
BEGIN:STANDARD
TZOFFSETFROM:+0000
TZOFFSETTO:+0000
TZNAME:UTC
DTSTART:20230101T000000
END:STANDARD
END:VTIMEZONE
BEGIN:VEVENT
DTSTART;TZID=UTC:20230224T190000
DTEND;TZID=UTC:20230224T210000
DTSTAMP:20260421T004759
CREATED:20230215T205125Z
LAST-MODIFIED:20230215T213713Z
UID:2130-1677265200-1677272400@www.d44toastmasters.org
SUMMARY:Area A15 Contests
DESCRIPTION:Area A15 Contests\, February 24\, 2023 at 7:00 pm EST \nClick here for contests zoom link…
URL:https://www.d44toastmasters.org/event/area-a15-contests/
END:VEVENT
END:VCALENDAR