BEGIN:VCALENDAR
VERSION:2.0
PRODID:-//District 44 Toastmasters – Where Leaders Are Made - ECPv6.5.0//NONSGML v1.0//EN
CALSCALE:GREGORIAN
METHOD:PUBLISH
X-WR-CALNAME:District 44 Toastmasters – Where Leaders Are Made
X-ORIGINAL-URL:https://www.d44toastmasters.org
X-WR-CALDESC:Events for District 44 Toastmasters – Where Leaders Are Made
REFRESH-INTERVAL;VALUE=DURATION:PT1H
X-Robots-Tag:noindex
X-PUBLISHED-TTL:PT1H
BEGIN:VTIMEZONE
TZID:UTC
BEGIN:STANDARD
TZOFFSETFROM:+0000
TZOFFSETTO:+0000
TZNAME:UTC
DTSTART:20230101T000000
END:STANDARD
END:VTIMEZONE
BEGIN:VEVENT
DTSTART;TZID=UTC:20230218T150000
DTEND;TZID=UTC:20230218T170000
DTSTAMP:20260423T075121
CREATED:20230215T204912Z
LAST-MODIFIED:20230215T204912Z
UID:2126-1676732400-1676739600@www.d44toastmasters.org
SUMMARY:Area A12 Contests
DESCRIPTION:Area A12 Contests\, February 18\, 2023 at 3:00 pm EST \nClick here for contests zoom link…
URL:https://www.d44toastmasters.org/event/area-a12-contests/
END:VEVENT
END:VCALENDAR