BEGIN:VCALENDAR
VERSION:2.0
PRODID:-//District 44 Toastmasters – Where Leaders Are Made - ECPv6.5.0//NONSGML v1.0//EN
CALSCALE:GREGORIAN
METHOD:PUBLISH
X-WR-CALNAME:District 44 Toastmasters – Where Leaders Are Made
X-ORIGINAL-URL:https://www.d44toastmasters.org
X-WR-CALDESC:Events for District 44 Toastmasters – Where Leaders Are Made
REFRESH-INTERVAL;VALUE=DURATION:PT1H
X-Robots-Tag:noindex
X-PUBLISHED-TTL:PT1H
BEGIN:VTIMEZONE
TZID:UTC
BEGIN:STANDARD
TZOFFSETFROM:+0000
TZOFFSETTO:+0000
TZNAME:UTC
DTSTART:20230101T000000
END:STANDARD
END:VTIMEZONE
BEGIN:VEVENT
DTSTART;TZID=UTC:20230315T190000
DTEND;TZID=UTC:20230315T210000
DTSTAMP:20260423T000503
CREATED:20230215T212534Z
LAST-MODIFIED:20230215T213407Z
UID:2148-1678906800-1678914000@www.d44toastmasters.org
SUMMARY:Area A11 Contests
DESCRIPTION:Area A11 Contests\, March 15\, 2023 at 7:00 pm EST \nClick here for the contest link….
URL:https://www.d44toastmasters.org/event/area-a11-contests/
END:VEVENT
END:VCALENDAR