BEGIN:VCALENDAR
VERSION:2.0
PRODID:-//District 44 Toastmasters – Where Leaders Are Made - ECPv6.5.0//NONSGML v1.0//EN
CALSCALE:GREGORIAN
METHOD:PUBLISH
X-WR-CALNAME:District 44 Toastmasters – Where Leaders Are Made
X-ORIGINAL-URL:https://www.d44toastmasters.org
X-WR-CALDESC:Events for District 44 Toastmasters – Where Leaders Are Made
REFRESH-INTERVAL;VALUE=DURATION:PT1H
X-Robots-Tag:noindex
X-PUBLISHED-TTL:PT1H
BEGIN:VTIMEZONE
TZID:America/New_York
BEGIN:DAYLIGHT
TZOFFSETFROM:-0500
TZOFFSETTO:-0400
TZNAME:EDT
DTSTART:20250309T070000
END:DAYLIGHT
BEGIN:STANDARD
TZOFFSETFROM:-0400
TZOFFSETTO:-0500
TZNAME:EST
DTSTART:20251102T060000
END:STANDARD
END:VTIMEZONE
BEGIN:VEVENT
DTSTART;TZID=America/New_York:20250712T090000
DTEND;TZID=America/New_York:20250712T140000
DTSTAMP:20260422T122640
CREATED:20250601T205528Z
LAST-MODIFIED:20250717T195629Z
UID:4250-1752310800-1752328800@www.d44toastmasters.org
SUMMARY:2025 Summer Toastmasters Leadership Institute
DESCRIPTION:REGISTER NOW \n\nWho Should Attend?\nClub officers\, Toastmasters\, and aspiring leaders committed to growth\, enhancing their communication and leadership skills\, and becoming visionaries ready to make an impact in 2025 and beyond. \nWhat Awaits You?\nExpect an energizing event filled with: \nInteractive Sessions that keep you engaged and inspired. \nPractical Tools you can use immediately. \nDynamic Networking to build relationships with leaders across District 44 \n  \nREGISTER NOW
URL:https://www.d44toastmasters.org/event/2025-summer-toastmaster-leadership-institute-tli/
LOCATION:Riverside EpiCenter\, 135 Riverside Pkwy\, Austell\, GA\, 30168\, United States
ATTACH;FMTTYPE=image/png:https://www.d44toastmasters.org/wp-content/uploads/2025/06/District-44-Summer-TLI-2025-3.png
END:VEVENT
END:VCALENDAR